BEGIN:VCALENDAR
VERSION:2.0
PRODID:-//Daffodils English School - ECPv6.15.20//NONSGML v1.0//EN
CALSCALE:GREGORIAN
METHOD:PUBLISH
X-WR-CALNAME:Daffodils English School
X-ORIGINAL-URL:https://daffodils.school
X-WR-CALDESC:Events for Daffodils English School
REFRESH-INTERVAL;VALUE=DURATION:PT1H
X-Robots-Tag:noindex
X-PUBLISHED-TTL:PT1H
BEGIN:VTIMEZONE
TZID:Asia/Kolkata
BEGIN:STANDARD
TZOFFSETFROM:+0530
TZOFFSETTO:+0530
TZNAME:IST
DTSTART:20250101T000000
END:STANDARD
END:VTIMEZONE
BEGIN:VEVENT
DTSTART;VALUE=DATE:20260311
DTEND;VALUE=DATE:20260312
DTSTAMP:20260424T004210
CREATED:20251016T171234Z
LAST-MODIFIED:20251016T171234Z
UID:1770-1773187200-1773273599@daffodils.school
SUMMARY:GA\, Life skills and Art Annual Examination for Grades 1 to 7
DESCRIPTION:
URL:https://daffodils.school/event/ga-life-skills-and-art-annual-examination-for-grades-1-to-7/
CATEGORIES:Academics
END:VEVENT
BEGIN:VEVENT
DTSTART;VALUE=DATE:20260312
DTEND;VALUE=DATE:20260328
DTSTAMP:20260424T004210
CREATED:20251016T171209Z
LAST-MODIFIED:20251016T171209Z
UID:1771-1773273600-1774655999@daffodils.school
SUMMARY:Annual Examination for Grades 6  and 7
DESCRIPTION:
URL:https://daffodils.school/event/annual-examination-for-grades-6-and-7/
CATEGORIES:Academics
END:VEVENT
BEGIN:VEVENT
DTSTART;VALUE=DATE:20260313
DTEND;VALUE=DATE:20260328
DTSTAMP:20260424T004210
CREATED:20251016T171135Z
LAST-MODIFIED:20251016T171135Z
UID:1772-1773360000-1774655999@daffodils.school
SUMMARY:Term Test 1 for Grade 9 and 10 (New Batch)
DESCRIPTION:
URL:https://daffodils.school/event/term-test-1-for-grade-9-and-10-new-batch/
CATEGORIES:Academics
END:VEVENT
BEGIN:VEVENT
DTSTART;VALUE=DATE:20260316
DTEND;VALUE=DATE:20260328
DTSTAMP:20260424T004210
CREATED:20251016T171058Z
LAST-MODIFIED:20251016T171058Z
UID:1773-1773619200-1774655999@daffodils.school
SUMMARY:Annual Examination for Grade 5
DESCRIPTION:
URL:https://daffodils.school/event/annual-examination-for-grade-5/
CATEGORIES:Academics
END:VEVENT
BEGIN:VEVENT
DTSTART;VALUE=DATE:20260317
DTEND;VALUE=DATE:20260328
DTSTAMP:20260424T004210
CREATED:20251016T170930Z
LAST-MODIFIED:20251016T170930Z
UID:1765-1773705600-1774655999@daffodils.school
SUMMARY:Annual Examination for Grades 3 and 4
DESCRIPTION:
URL:https://daffodils.school/event/annual-examination-for-grades-3-and-4/
CATEGORIES:Academics
END:VEVENT
BEGIN:VEVENT
DTSTART;VALUE=DATE:20260318
DTEND;VALUE=DATE:20260328
DTSTAMP:20260424T004210
CREATED:20251016T170849Z
LAST-MODIFIED:20251016T170849Z
UID:1764-1773792000-1774655999@daffodils.school
SUMMARY:Annual Examination for Grades 1 and 2
DESCRIPTION:
URL:https://daffodils.school/event/annual-examination-for-grades-1-and-2/
CATEGORIES:Academics
END:VEVENT
BEGIN:VEVENT
DTSTART;VALUE=DATE:20260319
DTEND;VALUE=DATE:20260320
DTSTAMP:20260424T004210
CREATED:20251016T165950Z
LAST-MODIFIED:20251016T165950Z
UID:1743-1773878400-1773964799@daffodils.school
SUMMARY:Ugadi
DESCRIPTION:
URL:https://daffodils.school/event/ugadi/
CATEGORIES:Holiday
END:VEVENT
BEGIN:VEVENT
DTSTART;VALUE=DATE:20260321
DTEND;VALUE=DATE:20260322
DTSTAMP:20260424T004210
CREATED:20251016T170050Z
LAST-MODIFIED:20251016T170050Z
UID:1745-1774051200-1774137599@daffodils.school
SUMMARY:Id-Ul-Fitr
DESCRIPTION:
URL:https://daffodils.school/event/id-ul-fitr/
CATEGORIES:Holiday
END:VEVENT
BEGIN:VEVENT
DTSTART;VALUE=DATE:20260330
DTEND;VALUE=DATE:20260331
DTSTAMP:20260424T004210
CREATED:20251016T170314Z
LAST-MODIFIED:20251016T170314Z
UID:1751-1774828800-1774915199@daffodils.school
SUMMARY:Special Races for  Grades 9 & 10
DESCRIPTION:
URL:https://daffodils.school/event/special-races-for-grades-9-10/
CATEGORIES:Sports
END:VEVENT
BEGIN:VEVENT
DTSTART;TZID=Asia/Kolkata:20260331T080000
DTEND;TZID=Asia/Kolkata:20260331T170000
DTSTAMP:20260424T004210
CREATED:20251016T170227Z
LAST-MODIFIED:20251016T170227Z
UID:1749-1774944000-1774976400@daffodils.school
SUMMARY:Mahavir Jayanthi
DESCRIPTION:
URL:https://daffodils.school/event/mahavir-jayanthi/
CATEGORIES:Holiday
END:VEVENT
BEGIN:VEVENT
DTSTART;VALUE=DATE:20260401
DTEND;VALUE=DATE:20260402
DTSTAMP:20260424T004210
CREATED:20251016T170628Z
LAST-MODIFIED:20251016T170628Z
UID:1757-1775001600-1775087999@daffodils.school
SUMMARY:Track and Field Events for Grade 9 & 10
DESCRIPTION:
URL:https://daffodils.school/event/track-and-field-events-for-grade-9-10/
CATEGORIES:Sports
END:VEVENT
BEGIN:VEVENT
DTSTART;VALUE=DATE:20260403
DTEND;VALUE=DATE:20260404
DTSTAMP:20260424T004210
CREATED:20251016T170150Z
LAST-MODIFIED:20251016T170150Z
UID:1747-1775174400-1775260799@daffodils.school
SUMMARY:Good Friday
DESCRIPTION:
URL:https://daffodils.school/event/good-friday/
CATEGORIES:Holiday
END:VEVENT
BEGIN:VEVENT
DTSTART;VALUE=DATE:20260408
DTEND;VALUE=DATE:20260409
DTSTAMP:20260424T004210
CREATED:20251016T170707Z
LAST-MODIFIED:20251016T170707Z
UID:1758-1775606400-1775692799@daffodils.school
SUMMARY:Result Declaration for Grades 1 to 4
DESCRIPTION:
URL:https://daffodils.school/event/result-declaration-for-grades-1-to-4/
CATEGORIES:Academics
END:VEVENT
BEGIN:VEVENT
DTSTART;VALUE=DATE:20260410
DTEND;VALUE=DATE:20260411
DTSTAMP:20260424T004210
CREATED:20251016T170738Z
LAST-MODIFIED:20251016T170738Z
UID:1759-1775779200-1775865599@daffodils.school
SUMMARY:Result Declaration for  Grade 5 to 7
DESCRIPTION:
URL:https://daffodils.school/event/result-declaration-for-grade-5-to-7/
CATEGORIES:Academics
END:VEVENT
BEGIN:VEVENT
DTSTART;VALUE=DATE:20260414
DTEND;VALUE=DATE:20260415
DTSTAMP:20260424T004210
CREATED:20251016T170815Z
LAST-MODIFIED:20251016T170815Z
UID:1763-1776124800-1776211199@daffodils.school
SUMMARY:Ambedkar Jayanthi
DESCRIPTION:
URL:https://daffodils.school/event/ambedkar-jayanthi/
CATEGORIES:Holiday
END:VEVENT
END:VCALENDAR