BEGIN:VCALENDAR
VERSION:2.0
PRODID:-//Daffodils English School - ECPv6.15.20//NONSGML v1.0//EN
CALSCALE:GREGORIAN
METHOD:PUBLISH
X-WR-CALNAME:Daffodils English School
X-ORIGINAL-URL:https://daffodils.school
X-WR-CALDESC:Events for Daffodils English School
REFRESH-INTERVAL;VALUE=DURATION:PT1H
X-Robots-Tag:noindex
X-PUBLISHED-TTL:PT1H
BEGIN:VTIMEZONE
TZID:Asia/Kolkata
BEGIN:STANDARD
TZOFFSETFROM:+0530
TZOFFSETTO:+0530
TZNAME:IST
DTSTART:20240101T000000
END:STANDARD
END:VTIMEZONE
BEGIN:VEVENT
DTSTART;VALUE=DATE:20260414
DTEND;VALUE=DATE:20260415
DTSTAMP:20260424T015255
CREATED:20251016T170815Z
LAST-MODIFIED:20251016T170815Z
UID:1763-1776124800-1776211199@daffodils.school
SUMMARY:Ambedkar Jayanthi
DESCRIPTION:
URL:https://daffodils.school/event/ambedkar-jayanthi/
CATEGORIES:Holiday
END:VEVENT
BEGIN:VEVENT
DTSTART;VALUE=DATE:20260403
DTEND;VALUE=DATE:20260404
DTSTAMP:20260424T015255
CREATED:20251016T170150Z
LAST-MODIFIED:20251016T170150Z
UID:1747-1775174400-1775260799@daffodils.school
SUMMARY:Good Friday
DESCRIPTION:
URL:https://daffodils.school/event/good-friday/
CATEGORIES:Holiday
END:VEVENT
BEGIN:VEVENT
DTSTART;TZID=Asia/Kolkata:20260331T080000
DTEND;TZID=Asia/Kolkata:20260331T170000
DTSTAMP:20260424T015255
CREATED:20251016T170227Z
LAST-MODIFIED:20251016T170227Z
UID:1749-1774944000-1774976400@daffodils.school
SUMMARY:Mahavir Jayanthi
DESCRIPTION:
URL:https://daffodils.school/event/mahavir-jayanthi/
CATEGORIES:Holiday
END:VEVENT
BEGIN:VEVENT
DTSTART;VALUE=DATE:20260321
DTEND;VALUE=DATE:20260322
DTSTAMP:20260424T015255
CREATED:20251016T170050Z
LAST-MODIFIED:20251016T170050Z
UID:1745-1774051200-1774137599@daffodils.school
SUMMARY:Id-Ul-Fitr
DESCRIPTION:
URL:https://daffodils.school/event/id-ul-fitr/
CATEGORIES:Holiday
END:VEVENT
BEGIN:VEVENT
DTSTART;VALUE=DATE:20260319
DTEND;VALUE=DATE:20260320
DTSTAMP:20260424T015255
CREATED:20251016T165950Z
LAST-MODIFIED:20251016T165950Z
UID:1743-1773878400-1773964799@daffodils.school
SUMMARY:Ugadi
DESCRIPTION:
URL:https://daffodils.school/event/ugadi/
CATEGORIES:Holiday
END:VEVENT
BEGIN:VEVENT
DTSTART;VALUE=DATE:20260215
DTEND;VALUE=DATE:20260216
DTSTAMP:20260424T015255
CREATED:20251016T170507Z
LAST-MODIFIED:20251016T170507Z
UID:1753-1771113600-1771199999@daffodils.school
SUMMARY:Mahashivaratri
DESCRIPTION:
URL:https://daffodils.school/event/mahashivaratri/
CATEGORIES:Holiday
END:VEVENT
BEGIN:VEVENT
DTSTART;VALUE=DATE:20260114
DTEND;VALUE=DATE:20260115
DTSTAMP:20260424T015255
CREATED:20251016T165345Z
LAST-MODIFIED:20251016T165712Z
UID:1737-1768348800-1768435199@daffodils.school
SUMMARY:Makara Sankranthi
DESCRIPTION:
URL:https://daffodils.school/event/makara-sankranthi/
CATEGORIES:Holiday
END:VEVENT
BEGIN:VEVENT
DTSTART;VALUE=DATE:20251227
DTEND;VALUE=DATE:20260105
DTSTAMP:20260424T015255
CREATED:20251015T090333Z
LAST-MODIFIED:20251015T090333Z
UID:1157-1766793600-1767571199@daffodils.school
SUMMARY:Christmas / Winter Break
DESCRIPTION:
URL:https://daffodils.school/event/christmas-winter-break/
CATEGORIES:Holiday
END:VEVENT
BEGIN:VEVENT
DTSTART;VALUE=DATE:20251108
DTEND;VALUE=DATE:20251109
DTSTAMP:20260424T015255
CREATED:20251015T080500Z
LAST-MODIFIED:20251015T084111Z
UID:1128-1762560000-1762646399@daffodils.school
SUMMARY:Kanakadasa Jayanti
DESCRIPTION:
URL:https://daffodils.school/event/kanakadasa-jayanti/
CATEGORIES:Holiday
END:VEVENT
BEGIN:VEVENT
DTSTART;VALUE=DATE:20251022
DTEND;VALUE=DATE:20251023
DTSTAMP:20260424T015255
CREATED:20251015T080052Z
LAST-MODIFIED:20251015T084136Z
UID:1122-1761091200-1761177599@daffodils.school
SUMMARY:Bali Padyami
DESCRIPTION:
URL:https://daffodils.school/event/bali-padyami/
CATEGORIES:Holiday
END:VEVENT
BEGIN:VEVENT
DTSTART;VALUE=DATE:20251021
DTEND;VALUE=DATE:20251022
DTSTAMP:20260424T015255
CREATED:20251015T080016Z
LAST-MODIFIED:20251015T084145Z
UID:1120-1761004800-1761091199@daffodils.school
SUMMARY:Deepavali
DESCRIPTION:
URL:https://daffodils.school/event/deepavali/
CATEGORIES:Holiday
END:VEVENT
BEGIN:VEVENT
DTSTART;VALUE=DATE:20251020
DTEND;VALUE=DATE:20251021
DTSTAMP:20260424T015255
CREATED:20251015T075949Z
LAST-MODIFIED:20251015T084158Z
UID:1118-1760918400-1761004799@daffodils.school
SUMMARY:Naraka Chaturdashi
DESCRIPTION:
URL:https://daffodils.school/event/naraka-chaturdashi/
CATEGORIES:Holiday
END:VEVENT
BEGIN:VEVENT
DTSTART;VALUE=DATE:20251007
DTEND;VALUE=DATE:20251008
DTSTAMP:20260424T015255
CREATED:20251015T075730Z
LAST-MODIFIED:20251015T084434Z
UID:1114-1759795200-1759881599@daffodils.school
SUMMARY:Valmiki Jayanthi
DESCRIPTION:
URL:https://daffodils.school/event/valmiki-jayanthi/
CATEGORIES:Holiday
END:VEVENT
END:VCALENDAR