BEGIN:VCALENDAR
VERSION:2.0
PRODID:-//Daffodils English School - ECPv6.15.20//NONSGML v1.0//EN
CALSCALE:GREGORIAN
METHOD:PUBLISH
X-WR-CALNAME:Daffodils English School
X-ORIGINAL-URL:https://daffodils.school
X-WR-CALDESC:Events for Daffodils English School
REFRESH-INTERVAL;VALUE=DURATION:PT1H
X-Robots-Tag:noindex
X-PUBLISHED-TTL:PT1H
BEGIN:VTIMEZONE
TZID:Asia/Kolkata
BEGIN:STANDARD
TZOFFSETFROM:+0530
TZOFFSETTO:+0530
TZNAME:IST
DTSTART:20240101T000000
END:STANDARD
END:VTIMEZONE
BEGIN:VEVENT
DTSTART;VALUE=DATE:20260227
DTEND;VALUE=DATE:20260228
DTSTAMP:20260424T032857
CREATED:20251016T171303Z
LAST-MODIFIED:20251016T171303Z
UID:1769-1772150400-1772236799@daffodils.school
SUMMARY:National Science Day
DESCRIPTION:
URL:https://daffodils.school/event/national-science-day/
CATEGORIES:Celebrations
END:VEVENT
BEGIN:VEVENT
DTSTART;VALUE=DATE:20260206
DTEND;VALUE=DATE:20260207
DTSTAMP:20260424T032857
CREATED:20251016T170540Z
LAST-MODIFIED:20260124T064259Z
UID:1755-1770336000-1770422399@daffodils.school
SUMMARY:Saraswathi Puja\, Graduation Ceremony and Farewell for Grade 10
DESCRIPTION:
URL:https://daffodils.school/event/saraswathi-puja-graduation-ceremony-and-farewell-for-grade-10/
CATEGORIES:Celebrations
END:VEVENT
BEGIN:VEVENT
DTSTART;VALUE=DATE:20260126
DTEND;VALUE=DATE:20260127
DTSTAMP:20260424T032857
CREATED:20251016T165854Z
LAST-MODIFIED:20251016T165854Z
UID:1741-1769385600-1769471999@daffodils.school
SUMMARY:Republic Day and Investiture Ceremony
DESCRIPTION:
URL:https://daffodils.school/event/republic-day-and-investiture-ceremony/
CATEGORIES:Celebrations
END:VEVENT
BEGIN:VEVENT
DTSTART;VALUE=DATE:20251129
DTEND;VALUE=DATE:20251130
DTSTAMP:20260424T032857
CREATED:20251015T081123Z
LAST-MODIFIED:20251015T084039Z
UID:1136-1764374400-1764460799@daffodils.school
SUMMARY:Annual Day for  Grades 1 to 5
DESCRIPTION:
URL:https://daffodils.school/event/annual-day-for-grades-1-to-5/
CATEGORIES:Celebrations
END:VEVENT
BEGIN:VEVENT
DTSTART;VALUE=DATE:20251126
DTEND;VALUE=DATE:20251127
DTSTAMP:20260424T032857
CREATED:20251015T081058Z
LAST-MODIFIED:20251015T084046Z
UID:1134-1764115200-1764201599@daffodils.school
SUMMARY:Constitution Day Celebrations
DESCRIPTION:
URL:https://daffodils.school/event/constitution-day-celebrations/
CATEGORIES:Celebrations
END:VEVENT
BEGIN:VEVENT
DTSTART;VALUE=DATE:20251114
DTEND;VALUE=DATE:20251115
DTSTAMP:20260424T032857
CREATED:20251015T080943Z
LAST-MODIFIED:20251015T084100Z
UID:1130-1763078400-1763164799@daffodils.school
SUMMARY:Children's Day Celebration Hejje CCA Competitions
DESCRIPTION:
URL:https://daffodils.school/event/childrens-day-celebration-hejje-cca-competitions/
CATEGORIES:Celebrations
END:VEVENT
BEGIN:VEVENT
DTSTART;VALUE=DATE:20251101
DTEND;VALUE=DATE:20251102
DTSTAMP:20260424T032857
CREATED:20251015T080413Z
LAST-MODIFIED:20251015T084120Z
UID:1126-1761955200-1762041599@daffodils.school
SUMMARY:Kannada Rajyotsava Celebration
DESCRIPTION:
URL:https://daffodils.school/event/kannada-rajyotsava-celebration/
CATEGORIES:Celebrations
END:VEVENT
BEGIN:VEVENT
DTSTART;VALUE=DATE:20251002
DTEND;VALUE=DATE:20251003
DTSTAMP:20260424T032857
CREATED:20250928T193200Z
LAST-MODIFIED:20251015T084505Z
UID:645-1759363200-1759449599@daffodils.school
SUMMARY:Vijaya Dashami / Gandhi Jayanthi
DESCRIPTION:
URL:https://daffodils.school/event/vijaya-dashami-gandhi-jayanthi/
CATEGORIES:Celebrations
END:VEVENT
BEGIN:VEVENT
DTSTART;VALUE=DATE:20251001
DTEND;VALUE=DATE:20251002
DTSTAMP:20260424T032857
CREATED:20251015T075504Z
LAST-MODIFIED:20251015T084459Z
UID:1108-1759276800-1759363199@daffodils.school
SUMMARY:Ayudha Pooja
DESCRIPTION:
URL:https://daffodils.school/event/ayudha-pooja/
CATEGORIES:Celebrations
END:VEVENT
END:VCALENDAR