BEGIN:VCALENDAR
VERSION:2.0
PRODID:-//Daffodils English School - ECPv6.15.20//NONSGML v1.0//EN
CALSCALE:GREGORIAN
METHOD:PUBLISH
X-ORIGINAL-URL:https://daffodils.school
X-WR-CALDESC:Events for Daffodils English School
REFRESH-INTERVAL;VALUE=DURATION:PT1H
X-Robots-Tag:noindex
X-PUBLISHED-TTL:PT1H
BEGIN:VTIMEZONE
TZID:Asia/Kolkata
BEGIN:STANDARD
TZOFFSETFROM:+0530
TZOFFSETTO:+0530
TZNAME:IST
DTSTART:20240101T000000
END:STANDARD
END:VTIMEZONE
BEGIN:VEVENT
DTSTART;VALUE=DATE:20260202
DTEND;VALUE=DATE:20260203
DTSTAMP:20260424T004252
CREATED:20251016T171527Z
LAST-MODIFIED:20251016T171527Z
UID:1782-1769990400-1770076799@daffodils.school
SUMMARY:School for Grade 9 and 10 [2026-27 batch] commences
DESCRIPTION:
URL:https://daffodils.school/event/school-for-grade-9-and-10-2026-27-batch-commences/
CATEGORIES:Announcement
END:VEVENT
BEGIN:VEVENT
DTSTART;VALUE=DATE:20260105
DTEND;VALUE=DATE:20260106
DTSTAMP:20260424T004252
CREATED:20251015T090520Z
LAST-MODIFIED:20251015T090520Z
UID:1159-1767571200-1767657599@daffodils.school
SUMMARY:School Reopens for Grades 1-10
DESCRIPTION:
URL:https://daffodils.school/event/school-reopens-for-grades-1-10/
CATEGORIES:Announcement
END:VEVENT
BEGIN:VEVENT
DTSTART;VALUE=DATE:20251220
DTEND;VALUE=DATE:20251221
DTSTAMP:20260424T004252
CREATED:20251015T085944Z
LAST-MODIFIED:20251015T090206Z
UID:1153-1766188800-1766275199@daffodils.school
SUMMARY:Code De Code Inter-school Competition
DESCRIPTION:
URL:https://daffodils.school/event/code-de-code-inter-school-competition/
CATEGORIES:Announcement
END:VEVENT
BEGIN:VEVENT
DTSTART;VALUE=DATE:20251006
DTEND;VALUE=DATE:20251007
DTSTAMP:20260424T004252
CREATED:20251015T075705Z
LAST-MODIFIED:20251015T084750Z
UID:1112-1759708800-1759795199@daffodils.school
SUMMARY:School Reopens for  Grades 1 to 10
DESCRIPTION:
URL:https://daffodils.school/event/school-reopens-for-grades-1-to-10/
CATEGORIES:Announcement
END:VEVENT
END:VCALENDAR