BEGIN:VCALENDAR
VERSION:2.0
PRODID:-//Daffodils English School - ECPv6.15.20//NONSGML v1.0//EN
CALSCALE:GREGORIAN
METHOD:PUBLISH
X-WR-CALNAME:Daffodils English School
X-ORIGINAL-URL:https://daffodils.school
X-WR-CALDESC:Events for Daffodils English School
REFRESH-INTERVAL;VALUE=DURATION:PT1H
X-Robots-Tag:noindex
X-PUBLISHED-TTL:PT1H
BEGIN:VTIMEZONE
TZID:Asia/Kolkata
BEGIN:STANDARD
TZOFFSETFROM:+0530
TZOFFSETTO:+0530
TZNAME:IST
DTSTART:20240101T000000
END:STANDARD
END:VTIMEZONE
BEGIN:VEVENT
DTSTART;VALUE=DATE:20251117
DTEND;VALUE=DATE:20251202
DTSTAMP:20260424T050613
CREATED:20251015T081032Z
LAST-MODIFIED:20251016T165010Z
UID:1132-1763337600-1764633599@daffodils.school
SUMMARY:Term Test 2 for Grade 8
DESCRIPTION:
URL:https://daffodils.school/event/term-test-2-for-grade-8/
CATEGORIES:Academics
END:VEVENT
BEGIN:VEVENT
DTSTART;VALUE=DATE:20251201
DTEND;VALUE=DATE:20251213
DTSTAMP:20260424T050613
CREATED:20251015T083555Z
LAST-MODIFIED:20251015T083555Z
UID:1138-1764547200-1765583999@daffodils.school
SUMMARY:I Preparatory for  Grade 10
DESCRIPTION:
URL:https://daffodils.school/event/i-preparatory-for-grade-10/
CATEGORIES:Academics
END:VEVENT
END:VCALENDAR