BEGIN:VCALENDAR
VERSION:2.0
PRODID:-//Daffodils English School - ECPv6.15.20//NONSGML v1.0//EN
CALSCALE:GREGORIAN
METHOD:PUBLISH
X-WR-CALNAME:Daffodils English School
X-ORIGINAL-URL:https://daffodils.school
X-WR-CALDESC:Events for Daffodils English School
REFRESH-INTERVAL;VALUE=DURATION:PT1H
X-Robots-Tag:noindex
X-PUBLISHED-TTL:PT1H
BEGIN:VTIMEZONE
TZID:Asia/Kolkata
BEGIN:STANDARD
TZOFFSETFROM:+0530
TZOFFSETTO:+0530
TZNAME:IST
DTSTART:20250101T000000
END:STANDARD
END:VTIMEZONE
BEGIN:VEVENT
DTSTART;VALUE=DATE:20260105
DTEND;VALUE=DATE:20260106
DTSTAMP:20260424T014657
CREATED:20251015T090520Z
LAST-MODIFIED:20251015T090520Z
UID:1159-1767571200-1767657599@daffodils.school
SUMMARY:School Reopens for Grades 1-10
DESCRIPTION:
URL:https://daffodils.school/event/school-reopens-for-grades-1-10/
CATEGORIES:Announcement
END:VEVENT
BEGIN:VEVENT
DTSTART;VALUE=DATE:20260105
DTEND;VALUE=DATE:20260120
DTSTAMP:20260424T014657
CREATED:20251015T090727Z
LAST-MODIFIED:20251015T090727Z
UID:1161-1767571200-1768867199@daffodils.school
SUMMARY:II Preparatory for Grade 10
DESCRIPTION:
URL:https://daffodils.school/event/ii-preparatory-for-grade-10/
CATEGORIES:Academics
END:VEVENT
BEGIN:VEVENT
DTSTART;VALUE=DATE:20260105
DTEND;VALUE=DATE:20260120
DTSTAMP:20260424T014657
CREATED:20251016T164622Z
LAST-MODIFIED:20251016T164622Z
UID:1727-1767571200-1768867199@daffodils.school
SUMMARY:Annual Exam for Grade 9
DESCRIPTION:
URL:https://daffodils.school/event/annual-exam-for-grade-9/
CATEGORIES:Academics
END:VEVENT
BEGIN:VEVENT
DTSTART;VALUE=DATE:20260105
DTEND;VALUE=DATE:20260121
DTSTAMP:20260424T014657
CREATED:20251016T164707Z
LAST-MODIFIED:20251016T164729Z
UID:1729-1767571200-1768953599@daffodils.school
SUMMARY:Annual Exam for Grade 8
DESCRIPTION:
URL:https://daffodils.school/event/annual-exam-for-grade-8/
CATEGORIES:Academics
END:VEVENT
END:VCALENDAR